Workbook
Name 第一種_: '作業シート（編集しないでください）'!#REF!
Name 第一種_専門職学位課程: '作業シート（編集しないでください）'!#REF!
Name 第一種_博士後期課程・博士課程: '作業シート（編集しないでください）'!#REF!
Name 第一種_博士前期課程・修士課程: '作業シート（編集しないでください）'!#REF!

Sheet 入力用シート
A1: 奨学金申請理由書【大学院在学採用（秋期・秋季入学）】 | U1: こちらは「入力用シート」です。「印刷用シート」を印刷してください。
A2: 1.あなたの情報を入力してください。
A3: 氏名 | F3: =IF(C3="","←入力","") -> ←入力
A4: 学籍番号 | F4: =IF(C4="","←入力","") -> ←入力
A5: 課程 | F5: =IF(C5="","←選択","") -> ←選択
A6: 研究科 | F6: =IF(C6="","←選択","") -> ←選択
A7: 専攻・コース | F7: =IF(C7="","←入力","") -> ←入力
A8: 学年 | E8: 年
A9: 携帯電話番号 （ハイフンあり） | F9: =IF(C9="","←入力","") -> ←入力
A10: メールアドレス | F10: =IF(C10="","←入力","") -> ←入力
A11: =IF(AND(F3="",F4="",F5="",F6="",F8="",F9="",F10=""),"","↑あなたの情報を入力してください。") -> ↑あなたの情報を入力してください。
A12: 2.希望する奨学金の種類を選択してください
A13: 希望する奨学金 | F13: =IF(C13="","←選択","") -> ←選択
A14: =IF(F13<>"←選択","","↑希望する奨学金の情報を入力してください。") -> ↑希望する奨学金の情報を入力してください。
A15: 3.あなたの研究情報について、3-1～3-3を入力してください。
A16: 3-1.あなたの研究題目（研究分野）を全角50文字以内で入力してください。
A17: （「研究題目」が未定の場合、手がけてみたいと考えている専門分野を大別し、その概要を入力してください）
A18: （法科大学院生は進学目的を入力してください）
A20: =IF(LEN(SUBSTITUTE(TRIM(A19),CHAR(10),""))=0,"↑「研究題目」を入力してください。",IF(LEN(SUBSTITUTE(TRIM(A19),CHAR(10),""))>50,"↑文字数が多いです。50文字以下にしてください。","")) -> ↑「研究題目」を入力してください。 | F20: ="（" & LEN(SUBSTITUTE(TRIM(A19),CHAR(10),"")) &"文字）" -> （0文字）
A21: 3-2.あなたの大学院進学の目的と研究計画を全角250字以上400字以内で記入してください。
A22: （法科大学院生は履修計画を入力してください）
A24: =IF(LEN(SUBSTITUTE(TRIM(A23),CHAR(10),""))=0,"↑「大学院進学の目的と研究計画」を入力してください。",IF(LEN(SUBSTITUTE(TRIM(A23),CHAR(10),""))>400,"↑文字数が多いです。400文字以下にしてください。",IF(LEN(SUBSTITUTE(TRIM(A23),CHAR(10),""))<250,"↑文字数が少ないです。250文字以上にしてください。",""))) -> ↑「大学院進学の目的と研究計画」を入力してください。 | F24: ="（" & LEN(SUBSTITUTE(TRIM(A23),CHAR(10),"")) &"文字）" -> （0文字）
A25: 3-3.あなたのこれまでの研究内容（提出論文・紀要・学術雑誌等の研究論文等）について全角250字以上400字以内で記入してください。
A26: ただし、修士・博士前期課程１年及び博士課程医科学専攻１年は記入の必要はありません。
A28: =IF('作業シート（編集しないでください）'!I3="いる",IF(LEN(SUBSTITUTE(TRIM(A27),CHAR(10),""))=0,"↑「これまでの研究内容」を入力してください。",IF(LEN(SUBSTITUTE(TRIM(A27),CHAR(10),""))>400,"↑文字数が多いです。400文字以下にしてください。",IF(LEN(SUBSTITUTE(TRIM(A27),CHAR(10),""))<250,"↑文字数が少ないです。250文字以上にしてください。",""))),"上記記入は不要です。次に進んでください。") -> ↑「これまでの研究内容」を入力してください。 | F28: ="（" & LEN(SUBSTITUTE(TRIM(A27),CHAR(10),"")) &"文字）" -> （0文字）
A30: 4.奨学金を希望するに至った家庭事情や、特に説明を要することを申請理由として150字以上200字以内で記入してください。
A31: 併用貸与を希望し第二種の最高月額を選択する場合は最高月額を必要とする「理由」も併せて記入してください。
A33: =IF(LEN(SUBSTITUTE(TRIM(A32),CHAR(10),""))=0,"↑「申請理由」を入力してください。",IF(LEN(SUBSTITUTE(TRIM(A32),CHAR(10),""))>200,"文字数が多いです。200文字以下にしてください。",IF(LEN(SUBSTITUTE(TRIM(A32),CHAR(10),""))<150,"文字数が少ないです。150文字以上にしてください。",""))) -> ↑「申請理由」を入力してください。 | F33: ="（" & LEN(SUBSTITUTE(TRIM(A32),CHAR(10),"")) &"文字）" -> （0文字）
A35: 5.希望する保証制度を選択してください。
A36: （３．については所得連動返還方式を希望し、かつ第一種、第二種を併願または併用で申し込みの場合のみ選択してください）
A37: 保証制度 | E37: =IF(B37="","←選択","") -> ←選択
A38: =IF(B37='作業シート（編集しないでください）'!D3,IF('作業シート（編集しないでください）'!I4="","以上で入力内容は終了です。「印刷用シート」を印刷してください。",'作業シート（編集しないでください）'!I4&"に不備があります。再度確認してください。"),"")
A39: =IF(OR(B37='作業シート（編集しないでください）'!D2,B37='作業シート（編集しないでください）'!D4),"以下確認、記入を行ってください。","")
A40: =IF(OR(B37='作業シート（編集しないでください）'!D2,B37='作業シート（編集しないでください）'!D4),"↓↓↓↓↓↓↓↓↓↓↓↓↓↓↓↓↓↓↓","")
A41: 連帯保証人・保証人には選任条件があります（詳細は貸与奨学金案内（大学院）P.19～を確認してください）。
A42: 連帯保証人の選任条件（抜粋）
A43: ・連帯保証人は原則奨学生本人の父母のいずれか
A44: ・貸与終了時にあなたが満45歳を超える場合は、貸与終了時に満60歳未満の人
A45: 保証人の選任条件（抜粋）
A46: ・父母・本人の配偶者を除く４親等内で、本人・連帯保証人と別生計で65歳未満の成年親族 例）おじ、おば、兄弟姉妹（学生・未成年不可）
A47: ・貸与終了時にあなたが満45歳を超える場合は、貸与終了時に満60歳未満の人
A48: ・上記選任条件を確認しましたか？ | F48: =IF(B37<>'作業シート（編集しないでください）'!D3,IF(E48="","←選択",IF(E48="いいえ","確認してください","")),"") -> ←選択
A49: 連帯保証人 | D49: 保証人
A50: 承諾 | D50: 承諾
A51: =IF(B37<>'作業シート（編集しないでください）'!D3,IF(B50="","↑選択",IF(B50="未承諾","必ず承諾を得てください。","")),"") -> ↑選択 | D51: =IF(B37<>'作業シート（編集しないでください）'!D3,IF(E50="","↑選択",IF(E50="未承諾","必ず承諾を得てください。","")),"") -> ↑選択
A52: 氏名 | D52: 氏名
A53: 続柄 | D53: 続柄
D54: 年齢 | F54: 歳
A55: =IF(B37<>'作業シート（編集しないでください）'!D3,IF(OR(B52="",B53=""),"↑連帯保証人情報入力",""),"") -> ↑連帯保証人情報入力 | D55: =IF(B37<>'作業シート（編集しないでください）'!D3,IF(OR(E52="",E53="",E54=""),"↑保証人情報入力",""),"") -> ↑保証人情報入力
A56: =IF(B37='作業シート（編集しないでください）'!D3,"",IF(AND(F48="",A51="",A55="",D51="",D55=""),"","↑連帯保証人・保証人情報を入力してください。")) -> ↑連帯保証人・保証人情報を入力してください。
A57: =IF(OR(B37='作業シート（編集しないでください）'!D2,B37='作業シート（編集しないでください）'!D4),IF('作業シート（編集しないでください）'!I4="","以上で入力内容は終了です。「印刷用シート」を印刷してください。",'作業シート（編集しないでください）'!I4&"に不備があります。再度確認してください。"),"")

Sheet 印刷用シート
A1: =IF('作業シート（編集しないでください）'!I4<>"","入力に不備があります。「入力用シート」を修正してください。",入力用シート!A1) -> 入力に不備があります。「入力用シート」を修正してください。
A2: 申請者情報
A3: 氏名 | B3: =IF(入力用シート!C3="","!データなし!",入力用シート!C3) -> !データなし! | E3: 学籍番号 | F3: =IF(入力用シート!C4="","!データなし!",入力用シート!C4) -> !データなし!
A4: 所属 | B4: =IF(入力用シート!C5="","!データなし!",入力用シート!C5) -> !データなし! | E4: 研究科 | F4: =IF(入力用シート!C6="","!データなし!",入力用シート!C6) -> !データなし!
B5: =IF(入力用シート!C7="","",入力用シート!C7) | G5: 学年 | H5: =IF(入力用シート!C8="","!データなし!",入力用シート!C8&"年") -> !データなし!
A6: Tel | B6: =IF(入力用シート!C9="","!データなし!",入力用シート!C9) -> !データなし! | E6: Mail | F6: =IF(入力用シート!C10="","!データなし!",入力用シート!C10) -> !データなし!
A7: 希望する奨学金の情報
A8: 希望する奨学金 | C8: =IF(入力用シート!C13="","!データなし!",入力用シート!C13) -> !データなし!
A9: 保証制度
A10: =IF(入力用シート!B37="","!データなし!",INDEX('作業シート（編集しないでください）'!D:E,MATCH(入力用シート!B37,'作業シート（編集しないでください）'!D:D,0),2)) -> !データなし! | B10: 選任条件 | C10: =IF(入力用シート!B37='作業シート（編集しないでください）'!D3,"＊＊＊",IF(AND(OR(入力用シート!B37='作業シート（編集しないでください）'!D2,入力用シート!B37='作業シート（編集しないでください）'!D4),入力用シート!E48="はい"),"確認済み","!データなし!")) -> !データなし! | D10: 連帯保証人承諾 | F10: =IF(入力用シート!B37='作業シート（編集しないでください）'!D3,"＊＊＊",IF(AND(OR(入力用シート!B37='作業シート（編集しないでください）'!D2,入力用シート!B37='作業シート（編集しないでください）'!D4),入力用シート!B50="承諾済み"),"承諾済み","!データなし!")) -> !データなし! | G10: 保証人承諾 | H10: =IF(入力用シート!B37='作業シート（編集しないでください）'!D3,"＊＊＊",IF(AND(OR(入力用シート!B37='作業シート（編集しないでください）'!D2,入力用シート!B37='作業シート（編集しないでください）'!D4),入力用シート!E50="承諾済み"),"承諾済み","!データなし!")) -> !データなし!
B11: 連帯保証人 | C11: =IF(入力用シート!B37='作業シート（編集しないでください）'!D3,"＊＊＊",IF(AND(OR(入力用シート!B37='作業シート（編集しないでください）'!D2,入力用シート!B37='作業シート（編集しないでください）'!D4),入力用シート!B52<>""),入力用シート!B52,"!データなし!")) -> !データなし! | F11: 続柄： | G11: =IF(入力用シート!B37='作業シート（編集しないでください）'!D3,"＊＊＊",IF(AND(OR(入力用シート!B37='作業シート（編集しないでください）'!D2,入力用シート!B37='作業シート（編集しないでください）'!D4),入力用シート!B53<>""),入力用シート!B53,"!データなし!")) -> !データなし!
B12: 保証人 | C12: =IF(入力用シート!B37='作業シート（編集しないでください）'!D3,"＊＊＊",IF(AND(OR(入力用シート!B37='作業シート（編集しないでください）'!D2,入力用シート!B37='作業シート（編集しないでください）'!D4),入力用シート!E52<>""),入力用シート!E52,"!データなし!")) -> !データなし! | F12: 続柄： | G12: =IF(入力用シート!B37='作業シート（編集しないでください）'!D3,"＊＊＊",IF(AND(OR(入力用シート!B37='作業シート（編集しないでください）'!D2,入力用シート!B37='作業シート（編集しないでください）'!D4),入力用シート!E53<>""),入力用シート!E53,"!データなし!")) -> !データなし! | H12: =IF(入力用シート!B37='作業シート（編集しないでください）'!D3,"＊＊＊",IF(AND(OR(入力用シート!B37='作業シート（編集しないでください）'!D2,入力用シート!B37='作業シート（編集しないでください）'!D4),入力用シート!E54<>""),"（"&入力用シート!E54&"歳）","!データなし!")) -> !データなし!
A14: 奨学金を希望するに至った家庭事情や、特に説明を要すること（申請理由）
A15: =IF(入力用シート!A33="",SUBSTITUTE(TRIM(入力用シート!A32),CHAR(10),""),入力用シート!A33) -> ↑「申請理由」を入力してください。
A17: あなたの研究題目（研究分野）
A18: =IF(入力用シート!A20="",SUBSTITUTE(TRIM(入力用シート!A19),CHAR(10),""),入力用シート!A20) -> ↑「研究題目」を入力してください。
A20: あなたの大学院進学の目的と研究計画
A21: =IF(入力用シート!A24="",SUBSTITUTE(TRIM(入力用シート!A23),CHAR(10),""),入力用シート!A24) -> ↑「大学院進学の目的と研究計画」を入力してください。
A23: あなたのこれまでの研究内容（提出論文・紀要・学術雑誌等の研究論文等）
A24: =IF(入力用シート!A28="上記記入は不要です。次に進んでください。","＊＊＊＊＊",IF(入力用シート!A28="",SUBSTITUTE(TRIM(入力用シート!A27),CHAR(10),""),入力用シート!A28)) -> ↑「これまでの研究内容」を入力してください。
G25: 神戸大学 | H25: （2025.09）

Sheet 作業シート（編集しないでください）
A1: 課程 | B1: 研究科 | C1: 希望する奨学金の種類 | D1: 保証制度 | E1: 保証制度転記用 | F1: その他 | G1: 承諾 | H1: 記入チェック
A2: 博士前期課程・修士課程 | B2: 人文学研究科 | C2: 1．第一種のみ希望 | D2: １．人的保証 | E2: 人的保証 | F2: はい | G2: 承諾済み | H2: 医科学か否か | I2: =IFERROR(SEARCH("医科学",入力用シート!C7),0) -> 0
A3: 博士後期課程・博士課程 | B3: 国際文化学研究科 | C3: 2．第一種を希望するが、不採用の場合は第二種希望 | D3: ２．機関保証 | E3: 機関保証 | F3: いいえ | G3: 未承諾 | H3: 研究記載必要 | I3: =IF(AND(入力用シート!C8=1,OR(入力用シート!C5="博士前期課程・修士課程",AND(入力用シート!C5="博士後期課程・博士課程",I2>0),入力用シート!C5="専門職学位課程")),"いらない","いる") -> いる
A4: 専門職学位課程 | B4: 人間発達環境学研究科 | C4: 3．第二種のみ希望 | D4: ３．第一種：機関保証、第二種：人的保証 | E4: 機関保証・人的保証 | H4: 総評 | I4: =I5&I6&I7&I8&I9&I10&I11 -> 「あなたの情報」「希望奨学金情報」「あなたの研究題目」「大学院進学の目的と研究計画」「これまでの研究内容」「申請理由」「保証制度」
B5: 法学研究科 | C5: 4．併用貸与のみ希望 | H5: 1 | I5: =IF(入力用シート!A11="","","「あなたの情報」") -> 「あなたの情報」
B6: 経済学研究科 | C6: 5．併用貸与を希望するが、不採用の場合は第一種を希望 | H6: 2 | I6: =IF(入力用シート!A14="","","「希望奨学金情報」") -> 「希望奨学金情報」
B7: 経営学研究科 | C7: 6．併用貸与及び第一種が不採用の場合、第二種を希望 | H7: 3-1 | I7: =IF(入力用シート!A20="","","「あなたの研究題目」") -> 「あなたの研究題目」
B8: 理学研究科 | C8: 7．併用貸与を希望するが、不採用の場合は第二種を希望 | H8: 3-2 | I8: =IF(入力用シート!A24="","","「大学院進学の目的と研究計画」") -> 「大学院進学の目的と研究計画」
B9: 工学研究科 | C9: 8．第二種を受給中で、第一種への移行を希望 | H9: 3-3 | I9: =IF(OR(入力用シート!A28="",入力用シート!A28="上記記入は不要です。次に進んでください。"),"","「これまでの研究内容」") -> 「これまでの研究内容」
B10: システム情報学研究科 | C10: 9．第一種を受給中で、第二種への移行を希望 | H10: 4 | I10: =IF(入力用シート!A33="","","「申請理由」") -> 「申請理由」
B11: 科学技術イノベーション研究科 | C11: 10．第一種を受給中で、併用貸与への移行を希望 | H11: 5 | I11: =IF(入力用シート!A56="","","「保証制度」") -> 「保証制度」
B12: 農学研究科 | C12: 11．第二種を受給中で、併用貸与への移行を希望
B13: 国際協力研究科 | C13: 13．第一種を受給中で、併用貸与への移行を希望するが、不採用の場合は第二種への移行を希望
B14: 医学研究科 | C14: 14．第二種を受給中で、併用貸与への移行を希望するが、不採用の場合は第一種への移行を希望
B15: 保健学研究科
B16: 海事科学研究科
